BEGIN:VCALENDAR
VERSION:2.0
PRODID:-//In Vita//NONSGML kigkonsult.se iCalcreator 2.41.92//
CALSCALE:GREGORIAN
METHOD:PUBLISH
UID:34316338-3265-4639-b463-396633646163
X-WR-CALNAME:iCagenda
X-WR-CALDESC:Event Management Extension for Joomla!
X-WR-RELCALID:3E26604A-50F4-4449-8B3E-E4F4932D05B5
X-WR-TIMEZONE:Europe/Paris
BEGIN:VTIMEZONE
TZID:Europe/Paris
TZUNTIL:20280326T010000Z
BEGIN:STANDARD
TZNAME:CET
DTSTART:20251026T030000
TZOFFSETFROM:+0200
TZOFFSETTO:+0100
RDATE:20261025T030000
RDATE:20271031T030000
END:STANDARD
BEGIN:DAYLIGHT
TZNAME:CEST
DTSTART:20260329T020000
TZOFFSETFROM:+0100
TZOFFSETTO:+0200
RDATE:20270328T020000
END:DAYLIGHT
END:VTIMEZONE
BEGIN:VEVENT
UID:66643339-3366-4438-b536-616133633162
DTSTAMP:20260425T201705Z
CATEGORIES:Formations
CLASS:PUBLIC
DESCRIPTION;ALTREP="CID:<FFFF__=0ABBE548DFE235B58f9e8a93d@coffeebean.com>":
 Tout sur Terre est essentiel et porteur de Sens !\nIn Vita vous propose un
 e nouvelle expérience dans l’univers du bien-être. À travers les champs in
 formationnels et les huiles essentielles venez toucher du doigt un univers
  des possibles&nbsp\;: un potentiel de guérison et d’évolution incroyable.
 \nLes produits d’In Vita sont des moyens naturels et sans danger pour être
  en bonne santé. Ils découlent de la conscience grandissante et de l'accep
 tation que l'information puisse être considérée comme le remède vibratoire
  qui agit le plus en profondeur sur notre champ énergétique.\nChaque éléme
 nt de l’univers est en parfait équilibre\, le végétal\, le minéral\, l’ani
 mal et nous le sommes aussi sous une forme adaptée à notre environnement\,
  nos mémoires\, nos croyances… nos blessures. Nous nous construisons avec 
 ces barrières émotionnelles qui bien souvent se matérialisent plus tard pa
 r une maladie\, nous avançons alors dans nos vies en toute inconscience. C
 es barrières ne sont présentes que parce que nous les y avons placés pour 
 nous protéger\, mais elles continuent à venir nous freiner même des années
  après sous forme de cycles mémorisés.\nCette formation vous permettra d’i
 dentifier ces perturbations et de trouver les moyens de les dépasser\, pou
 r vos proches\, vos clients ou vous-même.\n\nObjectifs&nbsp\;:\n\n\nDévelo
 ppez votre sensibilité en appréhendant le monde subtil des énergies (bioch
 amp\, chakras)\,\nExpérimentez des techniques simples d'hygiène énergétiqu
 e (ancrage\, connexion...)\,\nApprenez à utiliser des outils de test qui v
 ous correspondent\,\nÉtablissez un bilan bioénergétique complet en conform
 ité avec une demande précise\,\nIdentifiez les perturbations (mémoires cel
 lulaires)\,\nApprenez à utiliser les produits In Vita et les informations 
 subtiles de la nature\,\nApprofondissez votre intériorité par la visualisa
 tion\, la focalisation et l'intention\,\nDécouvrez la palette des Ressourc
 es à travers leur potentiel d'évolution\,\nApprenez des techniques de soin
 s adaptées aux problématiques et lever les blocages.\n\n\nDates :\n\nSur S
 aint Germain du Seudre (17) - en 2 modules de 3 jours\n\n\n\nSESSION 1 : a
 u café de l'atelier : 9 rue Eutrope Dupon\, 17240 Saint-Germain-du-Seudre
 \n\n\n\n\ndu vendredi&nbsp\;6&nbsp\;au dimanche 8&nbsp\;mars 2026\ndu vend
 redi 10 au dimanche 12&nbsp\;avril 2026\n\n\n\n\n\n&nbsp\;\nFiche d'inscri
 ption\nVous pouvez vous pré-inscrire par téléphone ou via le site Internet
  mais votre inscription sera définitive uniquement après réception de la f
 iche dûment renseignée et accompagnée de votre chèque d'acompte.\n&nbsp\;
 \nNote : Le programme complet est disponible avec la fiche d'inscription.
DTSTART:20260703T073000Z
DTEND:20260705T153000Z
GEO:+45.513336;-0.665456
LOCATION:Le Café de l'Atelier
ORGANIZER;CN=:mailto:administration@in-vita.fr
SEQUENCE:1
SUMMARY:Thérapie Informationnelle - Session 2 Module 2
TRANSP:OPAQUE
URL:https://www.in-vita.fr/evenements/29-therapie-informationnelle-2026-s1-
 m2
END:VEVENT
END:VCALENDAR
